Package: BSgenome Version: 1.75.1 Command: chmod a+r BSgenome -R && E:\biocbuild\bbs-3.21-bioc\R\bin\R.exe CMD build --keep-empty-dirs --no-resave-data BSgenome StartedAt: 2025-02-19 17:37:22 -0500 (Wed, 19 Feb 2025) EndedAt: 2025-02-19 17:40:39 -0500 (Wed, 19 Feb 2025) EllapsedTime: 197.2 seconds RetCode: 0 Status: OK PackageFile: BSgenome_1.75.1.tar.gz PackageFileSize: 5.458 MiB