Package: BSgenome Version: 1.75.1 Command: /home/biocbuild/bbs-3.21-bioc/R/bin/R CMD INSTALL BSgenome StartedAt: 2025-02-19 15:26:31 -0500 (Wed, 19 Feb 2025) EndedAt: 2025-02-19 15:27:12 -0500 (Wed, 19 Feb 2025) EllapsedTime: 41.6 seconds RetCode: 0 Status: OK