Package: BSgenome Version: 1.75.1 Command: /home/biocbuild/bbs-3.21-bioc/R/bin/R CMD check --install=check:BSgenome.install-out.txt --library=/home/biocbuild/bbs-3.21-bioc/R/site-library --timings BSgenome_1.75.1.tar.gz StartedAt: 2025-02-19 20:29:12 -0500 (Wed, 19 Feb 2025) EndedAt: 2025-02-19 20:35:52 -0500 (Wed, 19 Feb 2025) EllapsedTime: 399.5 seconds RetCode: 0 Status: WARNINGS CheckDir: BSgenome.Rcheck Warnings: 2