Package: BREW3R.r Version: 1.3.0 Command: E:\biocbuild\bbs-3.21-bioc\R\bin\R.exe CMD INSTALL BREW3R.r StartedAt: 2025-02-20 15:38:13 -0500 (Thu, 20 Feb 2025) EndedAt: 2025-02-20 15:38:30 -0500 (Thu, 20 Feb 2025) EllapsedTime: 16.9 seconds RetCode: 0 Status: OK