Package: BREW3R.r Version: 1.3.0 Command: E:\biocbuild\bbs-3.21-bioc\R\bin\R.exe CMD check --no-multiarch --install=check:BREW3R.r.install-out.txt --library=E:\biocbuild\bbs-3.21-bioc\R\library --no-vignettes --timings BREW3R.r_1.3.0.tar.gz StartedAt: 2025-02-20 23:24:42 -0500 (Thu, 20 Feb 2025) EndedAt: 2025-02-20 23:26:40 -0500 (Thu, 20 Feb 2025) EllapsedTime: 117.4 seconds RetCode: 0 Status: OK CheckDir: BREW3R.r.Rcheck Warnings: 0