Package: BREW3R.r Version: 1.3.0 Command: /home/biocbuild/bbs-3.21-bioc/R/bin/R CMD INSTALL BREW3R.r StartedAt: 2025-02-20 15:26:04 -0500 (Thu, 20 Feb 2025) EndedAt: 2025-02-20 15:26:12 -0500 (Thu, 20 Feb 2025) EllapsedTime: 8.0 seconds RetCode: 0 Status: OK