Package: BREW3R.r Version: 1.3.0 Command: /Library/Frameworks/R.framework/Resources/bin/R CMD INSTALL BREW3R.r StartedAt: 2025-02-19 15:04:33 -0500 (Wed, 19 Feb 2025) EndedAt: 2025-02-19 15:04:37 -0500 (Wed, 19 Feb 2025) EllapsedTime: 4.0 seconds RetCode: 0 Status: OK