Package: BREW3R.r Version: 1.3.0 Command: /Library/Frameworks/R.framework/Resources/bin/R CMD check --install=check:BREW3R.r.install-out.txt --library=/Library/Frameworks/R.framework/Resources/library --no-vignettes --timings BREW3R.r_1.3.0.tar.gz StartedAt: 2025-02-20 18:20:16 -0500 (Thu, 20 Feb 2025) EndedAt: 2025-02-20 18:20:50 -0500 (Thu, 20 Feb 2025) EllapsedTime: 34.4 seconds RetCode: 0 Status: OK CheckDir: BREW3R.r.Rcheck Warnings: 0