Package: BRAIN Version: 1.53.0 Command: /home/biocbuild/R/R/bin/R CMD INSTALL BRAIN StartedAt: 2025-01-29 19:38:05 -0000 (Wed, 29 Jan 2025) EndedAt: 2025-01-29 19:38:19 -0000 (Wed, 29 Jan 2025) EllapsedTime: 14.0 seconds RetCode: 0 Status: OK