Package: BPRMeth Version: 1.33.0 Command: /Library/Frameworks/R.framework/Resources/bin/R CMD INSTALL BPRMeth StartedAt: 2025-02-19 15:25:07 -0500 (Wed, 19 Feb 2025) EndedAt: 2025-02-19 15:25:40 -0500 (Wed, 19 Feb 2025) EllapsedTime: 33.7 seconds RetCode: 0 Status: OK