Package: BPRMeth Version: 1.33.0 Command: /Library/Frameworks/R.framework/Resources/bin/R CMD build --keep-empty-dirs --no-resave-data BPRMeth StartedAt: 2025-02-19 16:04:08 -0500 (Wed, 19 Feb 2025) EndedAt: 2025-02-19 16:05:31 -0500 (Wed, 19 Feb 2025) EllapsedTime: 83.3 seconds RetCode: 0 Status: OK PackageFile: BPRMeth_1.33.0.tar.gz PackageFileSize: 3.274 MiB