Package: BOBaFIT Version: 1.11.0 Command: E:\biocbuild\bbs-3.21-bioc\R\bin\R.exe CMD INSTALL BOBaFIT StartedAt: 2025-02-20 16:42:16 -0500 (Thu, 20 Feb 2025) EndedAt: 2025-02-20 16:43:10 -0500 (Thu, 20 Feb 2025) EllapsedTime: 53.9 seconds RetCode: 0 Status: OK