Package: BOBaFIT Version: 1.11.0 Command: rm -rf BOBaFIT.buildbin-libdir && mkdir BOBaFIT.buildbin-libdir && E:\biocbuild\bbs-3.21-bioc\R\bin\R.exe CMD INSTALL --build --library=BOBaFIT.buildbin-libdir BOBaFIT_1.11.0.tar.gz StartedAt: 2025-02-21 07:41:00 -0500 (Fri, 21 Feb 2025) EndedAt: 2025-02-21 07:42:10 -0500 (Fri, 21 Feb 2025) EllapsedTime: 70.1 seconds RetCode: 0 Status: OK PackageFile: BOBaFIT_1.11.0.zip PackageFileSize: 2.447 MiB