Package: BOBaFIT Version: 1.11.0 Command: /home/biocbuild/bbs-3.21-bioc/R/bin/R CMD INSTALL BOBaFIT StartedAt: 2025-02-20 16:00:37 -0500 (Thu, 20 Feb 2025) EndedAt: 2025-02-20 16:01:28 -0500 (Thu, 20 Feb 2025) EllapsedTime: 51.0 seconds RetCode: 0 Status: OK