Package: BOBaFIT Version: 1.11.0 Command: /Library/Frameworks/R.framework/Resources/bin/R CMD build --keep-empty-dirs --no-resave-data BOBaFIT StartedAt: 2025-02-20 15:44:41 -0500 (Thu, 20 Feb 2025) EndedAt: 2025-02-20 15:45:18 -0500 (Thu, 20 Feb 2025) EllapsedTime: 36.4 seconds RetCode: 0 Status: OK PackageFile: BOBaFIT_1.11.0.tar.gz PackageFileSize: 2.497 MiB