Package: BG2 Version: 1.7.0 Command: /Library/Frameworks/R.framework/Resources/bin/R CMD INSTALL BG2 StartedAt: 2025-02-19 15:36:54 -0500 (Wed, 19 Feb 2025) EndedAt: 2025-02-19 15:36:59 -0500 (Wed, 19 Feb 2025) EllapsedTime: 4.9 seconds RetCode: 0 Status: OK