Package: BEclear Version: 2.23.0 Command: chmod a+r BEclear -R && E:\biocbuild\bbs-3.21-bioc\R\bin\R.exe CMD build --keep-empty-dirs --no-resave-data BEclear StartedAt: 2025-02-19 17:23:52 -0500 (Wed, 19 Feb 2025) EndedAt: 2025-02-19 17:24:37 -0500 (Wed, 19 Feb 2025) EllapsedTime: 44.7 seconds RetCode: 0 Status: OK PackageFile: BEclear_2.23.0.tar.gz PackageFileSize: 574.9 KiB