Package: BEclear Version: 2.23.0 Command: rm -rf BEclear.buildbin-libdir && mkdir BEclear.buildbin-libdir && E:\biocbuild\bbs-3.21-bioc\R\bin\R.exe CMD INSTALL --build --library=BEclear.buildbin-libdir BEclear_2.23.0.tar.gz StartedAt: 2025-02-20 07:19:11 -0500 (Thu, 20 Feb 2025) EndedAt: 2025-02-20 07:19:38 -0500 (Thu, 20 Feb 2025) EllapsedTime: 26.6 seconds RetCode: 0 Status: OK PackageFile: BEclear_2.23.0.zip PackageFileSize: 967.1 KiB