Package: BEclear Version: 2.23.0 Command: /home/biocbuild/bbs-3.21-bioc/R/bin/R CMD check --install=check:BEclear.install-out.txt --library=/home/biocbuild/bbs-3.21-bioc/R/site-library --timings BEclear_2.23.0.tar.gz StartedAt: 2025-02-19 20:12:35 -0500 (Wed, 19 Feb 2025) EndedAt: 2025-02-19 20:13:43 -0500 (Wed, 19 Feb 2025) EllapsedTime: 68.1 seconds RetCode: 0 Status: OK CheckDir: BEclear.Rcheck Warnings: 0