Package: BEclear Version: 2.23.0 Command: /Library/Frameworks/R.framework/Resources/bin/R CMD check --install=check:BEclear.install-out.txt --library=/Library/Frameworks/R.framework/Resources/library --no-vignettes --timings BEclear_2.23.0.tar.gz StartedAt: 2025-02-19 19:00:24 -0500 (Wed, 19 Feb 2025) EndedAt: 2025-02-19 19:01:42 -0500 (Wed, 19 Feb 2025) EllapsedTime: 77.7 seconds RetCode: 0 Status: OK CheckDir: BEclear.Rcheck Warnings: 0