Package: BEclear Version: 2.23.0 Command: /home/biocbuild/R/R/bin/R CMD INSTALL BEclear StartedAt: 2025-01-29 19:48:55 -0000 (Wed, 29 Jan 2025) EndedAt: 2025-01-29 19:49:15 -0000 (Wed, 29 Jan 2025) EllapsedTime: 19.5 seconds RetCode: 0 Status: OK