Package: BEclear Version: 2.23.0 Command: /home/biocbuild/R/R/bin/R CMD build --keep-empty-dirs --no-resave-data BEclear StartedAt: 2025-01-29 21:05:41 -0000 (Wed, 29 Jan 2025) EndedAt: 2025-01-29 21:06:15 -0000 (Wed, 29 Jan 2025) EllapsedTime: 34.0 seconds RetCode: 0 Status: OK PackageFile: BEclear_2.23.0.tar.gz PackageFileSize: 657.5 KiB