Package: BERT Version: 1.3.6 Command: /Library/Frameworks/R.framework/Resources/bin/R CMD check --install=check:BERT.install-out.txt --library=/Library/Frameworks/R.framework/Resources/library --no-vignettes --timings BERT_1.3.6.tar.gz StartedAt: 2025-02-20 19:00:44 -0500 (Thu, 20 Feb 2025) EndedAt: 2025-02-20 19:02:11 -0500 (Thu, 20 Feb 2025) EllapsedTime: 87.2 seconds RetCode: 0 Status: OK CheckDir: BERT.Rcheck Warnings: 0