Package: BERT Version: 1.3.6 Command: rm -rf BERT.buildbin-libdir && mkdir BERT.buildbin-libdir && /Users/biocbuild/BBS/utils/build-universal.sh BERT_1.3.6.tar.gz /Library/Frameworks/R.framework/Resources/bin/R BERT.buildbin-libdir StartedAt: 2025-02-21 00:20:31 -0500 (Fri, 21 Feb 2025) EndedAt: 2025-02-21 00:20:36 -0500 (Fri, 21 Feb 2025) EllapsedTime: 4.6 seconds RetCode: 0 Status: OK PackageFile: BERT_1.3.6.tgz PackageFileSize: 322.9 KiB