Package: BERT Version: 1.3.6 Command: rm -rf BERT.buildbin-libdir && mkdir BERT.buildbin-libdir && /Users/biocbuild/BBS/utils/build-universal.sh BERT_1.3.6.tar.gz /Library/Frameworks/R.framework/Resources/bin/R BERT.buildbin-libdir StartedAt: 2025-02-20 22:11:18 -0500 (Thu, 20 Feb 2025) EndedAt: 2025-02-20 22:11:21 -0500 (Thu, 20 Feb 2025) EllapsedTime: 2.1 seconds RetCode: 0 Status: OK PackageFile: BERT_1.3.6.tgz PackageFileSize: 324 KiB