Package: BEAT Version: 1.45.0 Command: /Library/Frameworks/R.framework/Resources/bin/R CMD INSTALL BEAT StartedAt: 2025-02-19 15:24:08 -0500 (Wed, 19 Feb 2025) EndedAt: 2025-02-19 15:24:56 -0500 (Wed, 19 Feb 2025) EllapsedTime: 48.5 seconds RetCode: 0 Status: OK