Package: BEAT Version: 1.45.0 Command: /Library/Frameworks/R.framework/Resources/bin/R CMD check --install=check:BEAT.install-out.txt --library=/Library/Frameworks/R.framework/Resources/library --no-vignettes --timings BEAT_1.45.0.tar.gz StartedAt: 2025-02-19 19:00:20 -0500 (Wed, 19 Feb 2025) EndedAt: 2025-02-19 19:05:58 -0500 (Wed, 19 Feb 2025) EllapsedTime: 337.5 seconds RetCode: 0 Status: OK CheckDir: BEAT.Rcheck Warnings: 0