Package: BEAT Version: 1.45.0 Command: /Library/Frameworks/R.framework/Resources/bin/R CMD INSTALL BEAT StartedAt: 2025-02-18 15:12:40 -0500 (Tue, 18 Feb 2025) EndedAt: 2025-02-18 15:12:55 -0500 (Tue, 18 Feb 2025) EllapsedTime: 14.7 seconds RetCode: 0 Status: OK