Package: BEARscc Version: 1.27.1 Command: /home/biocbuild/bbs-3.21-bioc/R/bin/R CMD INSTALL BEARscc StartedAt: 2025-02-20 15:42:17 -0500 (Thu, 20 Feb 2025) EndedAt: 2025-02-20 15:42:47 -0500 (Thu, 20 Feb 2025) EllapsedTime: 30.3 seconds RetCode: 0 Status: OK