Package: BEARscc Version: 1.27.1 Command: /home/biocbuild/bbs-3.21-bioc/R/bin/R CMD build --keep-empty-dirs --no-resave-data BEARscc StartedAt: 2025-02-20 16:33:31 -0500 (Thu, 20 Feb 2025) EndedAt: 2025-02-20 16:34:30 -0500 (Thu, 20 Feb 2025) EllapsedTime: 59.0 seconds RetCode: 0 Status: OK PackageFile: BEARscc_1.27.1.tar.gz PackageFileSize: 653.5 KiB