Package: BEARscc Version: 1.27.1 Command: /Library/Frameworks/R.framework/Resources/bin/R CMD build --keep-empty-dirs --no-resave-data BEARscc StartedAt: 2025-02-21 15:57:53 -0500 (Fri, 21 Feb 2025) EndedAt: 2025-02-21 15:59:01 -0500 (Fri, 21 Feb 2025) EllapsedTime: 68.5 seconds RetCode: 0 Status: OK PackageFile: BEARscc_1.27.1.tar.gz PackageFileSize: 654.1 KiB