Package: BEARscc Version: 1.27.1 Command: rm -rf BEARscc.buildbin-libdir && mkdir BEARscc.buildbin-libdir && /Users/biocbuild/BBS/utils/build-universal.sh BEARscc_1.27.1.tar.gz /Library/Frameworks/R.framework/Resources/bin/R BEARscc.buildbin-libdir StartedAt: 2025-02-22 00:21:26 -0500 (Sat, 22 Feb 2025) EndedAt: 2025-02-22 00:22:11 -0500 (Sat, 22 Feb 2025) EllapsedTime: 45.2 seconds RetCode: 0 Status: OK PackageFile: BEARscc_1.27.1.tgz PackageFileSize: 699.5 KiB