Package: BEARscc Version: 1.27.1 Command: /Library/Frameworks/R.framework/Resources/bin/R CMD INSTALL BEARscc StartedAt: 2025-02-20 15:06:53 -0500 (Thu, 20 Feb 2025) EndedAt: 2025-02-20 15:07:06 -0500 (Thu, 20 Feb 2025) EllapsedTime: 12.9 seconds RetCode: 0 Status: OK