Package: BEARscc Version: 1.27.1 Command: /Library/Frameworks/R.framework/Resources/bin/R CMD check --install=check:BEARscc.install-out.txt --library=/Library/Frameworks/R.framework/Resources/library --no-vignettes --timings BEARscc_1.27.1.tar.gz StartedAt: 2025-02-20 18:11:10 -0500 (Thu, 20 Feb 2025) EndedAt: 2025-02-20 18:12:38 -0500 (Thu, 20 Feb 2025) EllapsedTime: 88.1 seconds RetCode: 1 Status: ERROR CheckDir: BEARscc.Rcheck Warnings: NA