Package: BEARscc Version: 1.27.1 Command: rm -rf BEARscc.buildbin-libdir && mkdir BEARscc.buildbin-libdir && /Users/biocbuild/BBS/utils/build-universal.sh BEARscc_1.27.1.tar.gz /Library/Frameworks/R.framework/Resources/bin/R BEARscc.buildbin-libdir StartedAt: 2025-02-21 22:48:33 -0500 (Fri, 21 Feb 2025) EndedAt: 2025-02-21 22:48:47 -0500 (Fri, 21 Feb 2025) EllapsedTime: 14.2 seconds RetCode: 0 Status: OK PackageFile: BEARscc_1.27.1.tgz PackageFileSize: 699.2 KiB