Package: BBCAnalyzer Version: 1.37.0 Command: chmod a+r BBCAnalyzer -R && E:\biocbuild\bbs-3.21-bioc\R\bin\R.exe CMD build --keep-empty-dirs --no-resave-data BBCAnalyzer StartedAt: 2025-02-19 17:22:48 -0500 (Wed, 19 Feb 2025) EndedAt: 2025-02-19 17:33:27 -0500 (Wed, 19 Feb 2025) EllapsedTime: 639.3 seconds RetCode: 0 Status: OK PackageFile: BBCAnalyzer_1.37.0.tar.gz PackageFileSize: 2.084 MiB