Package: BBCAnalyzer Version: 1.37.0 Command: /Library/Frameworks/R.framework/Resources/bin/R CMD INSTALL BBCAnalyzer StartedAt: 2025-02-17 15:19:45 -0500 (Mon, 17 Feb 2025) EndedAt: 2025-02-17 15:20:43 -0500 (Mon, 17 Feb 2025) EllapsedTime: 58.0 seconds RetCode: 0 Status: OK