Package: BBCAnalyzer Version: 1.37.0 Command: /Library/Frameworks/R.framework/Resources/bin/R CMD build --keep-empty-dirs --no-resave-data BBCAnalyzer StartedAt: 2025-02-17 15:56:12 -0500 (Mon, 17 Feb 2025) EndedAt: 2025-02-17 16:02:34 -0500 (Mon, 17 Feb 2025) EllapsedTime: 382.5 seconds RetCode: 0 Status: OK PackageFile: BBCAnalyzer_1.37.0.tar.gz PackageFileSize: 2.202 MiB