Package: BBCAnalyzer Version: 1.37.0 Command: rm -rf BBCAnalyzer.buildbin-libdir && mkdir BBCAnalyzer.buildbin-libdir && /Users/biocbuild/BBS/utils/build-universal.sh BBCAnalyzer_1.37.0.tar.gz /Library/Frameworks/R.framework/Resources/bin/R BBCAnalyzer.buildbin-libdir StartedAt: 2025-02-18 00:14:39 -0500 (Tue, 18 Feb 2025) EndedAt: 2025-02-18 00:15:40 -0500 (Tue, 18 Feb 2025) EllapsedTime: 61.3 seconds RetCode: 0 Status: OK PackageFile: BBCAnalyzer_1.37.0.tgz PackageFileSize: 2.059 MiB