Package: BASiCStan Version: 1.9.0 Command: chmod a+r BASiCStan -R && E:\biocbuild\bbs-3.21-bioc\R\bin\R.exe CMD build --keep-empty-dirs --no-resave-data BASiCStan StartedAt: 2025-02-19 17:21:30 -0500 (Wed, 19 Feb 2025) EndedAt: 2025-02-19 17:28:15 -0500 (Wed, 19 Feb 2025) EllapsedTime: 405.8 seconds RetCode: 0 Status: OK PackageFile: BASiCStan_1.9.0.tar.gz PackageFileSize: 42.48 KiB