Package: BASiCStan Version: 1.9.0 Command: /home/biocbuild/bbs-3.21-bioc/R/bin/R CMD INSTALL BASiCStan StartedAt: 2025-02-17 15:53:35 -0500 (Mon, 17 Feb 2025) EndedAt: 2025-02-17 15:58:03 -0500 (Mon, 17 Feb 2025) EllapsedTime: 267.4 seconds RetCode: 0 Status: OK