Package: BASiCStan Version: 1.9.0 Command: /home/biocbuild/bbs-3.21-bioc/R/bin/R CMD build --keep-empty-dirs --no-resave-data BASiCStan StartedAt: 2025-02-17 16:12:18 -0500 (Mon, 17 Feb 2025) EndedAt: 2025-02-17 16:17:00 -0500 (Mon, 17 Feb 2025) EllapsedTime: 282.3 seconds RetCode: 0 Status: OK PackageFile: BASiCStan_1.9.0.tar.gz PackageFileSize: 64.12 KiB