Package: BASiCStan Version: 1.9.0 Command: /Library/Frameworks/R.framework/Resources/bin/R CMD INSTALL BASiCStan StartedAt: 2025-02-17 15:41:26 -0500 (Mon, 17 Feb 2025) EndedAt: 2025-02-17 15:45:43 -0500 (Mon, 17 Feb 2025) EllapsedTime: 257.1 seconds RetCode: 0 Status: OK