Package: BASiCStan Version: 1.9.0 Command: /Library/Frameworks/R.framework/Resources/bin/R CMD check --install=check:BASiCStan.install-out.txt --library=/Library/Frameworks/R.framework/Resources/library --no-vignettes --timings BASiCStan_1.9.0.tar.gz StartedAt: 2025-02-17 18:54:54 -0500 (Mon, 17 Feb 2025) EndedAt: 2025-02-17 19:00:24 -0500 (Mon, 17 Feb 2025) EllapsedTime: 329.1 seconds RetCode: 0 Status: OK CheckDir: BASiCStan.Rcheck Warnings: 0