Package: BASiCS Version: 2.19.0 Command: E:\biocbuild\bbs-3.21-bioc\R\bin\R.exe CMD INSTALL BASiCS StartedAt: 2025-02-19 16:52:10 -0500 (Wed, 19 Feb 2025) EndedAt: 2025-02-19 16:53:50 -0500 (Wed, 19 Feb 2025) EllapsedTime: 100.0 seconds RetCode: 0 Status: OK