Package: BASiCS Version: 2.19.0 Command: /home/biocbuild/bbs-3.21-bioc/R/bin/R CMD INSTALL BASiCS StartedAt: 2025-02-19 15:51:52 -0500 (Wed, 19 Feb 2025) EndedAt: 2025-02-19 15:53:04 -0500 (Wed, 19 Feb 2025) EllapsedTime: 72.4 seconds RetCode: 0 Status: OK