Package: BASiCS Version: 2.19.0 Command: /home/biocbuild/bbs-3.21-bioc/R/bin/R CMD build --keep-empty-dirs --no-resave-data BASiCS StartedAt: 2025-02-19 16:12:46 -0500 (Wed, 19 Feb 2025) EndedAt: 2025-02-19 16:14:32 -0500 (Wed, 19 Feb 2025) EllapsedTime: 106.1 seconds RetCode: 0 Status: OK PackageFile: BASiCS_2.19.0.tar.gz PackageFileSize: 3.197 MiB