Package: BAGS Version: 2.47.0 Command: /Library/Frameworks/R.framework/Resources/bin/R CMD INSTALL BAGS StartedAt: 2025-02-19 15:01:24 -0500 (Wed, 19 Feb 2025) EndedAt: 2025-02-19 15:01:26 -0500 (Wed, 19 Feb 2025) EllapsedTime: 1.6 seconds RetCode: 0 Status: OK