Package: BADER Version: 1.45.0 Command: chmod a+r BADER -R && E:\biocbuild\bbs-3.21-bioc\R\bin\R.exe CMD build --keep-empty-dirs --no-resave-data BADER StartedAt: 2025-02-20 17:19:22 -0500 (Thu, 20 Feb 2025) EndedAt: 2025-02-20 17:19:29 -0500 (Thu, 20 Feb 2025) EllapsedTime: 7.0 seconds RetCode: 1 Status: ERROR PackageFile: None PackageFileSize: NA