Package: BADER Version: 1.45.0 Command: /home/biocbuild/bbs-3.21-bioc/R/bin/R CMD check --install=check:BADER.install-out.txt --library=/home/biocbuild/bbs-3.21-bioc/R/site-library --timings BADER_1.45.0.tar.gz StartedAt: 2025-02-19 20:03:18 -0500 (Wed, 19 Feb 2025) EndedAt: 2025-02-19 20:03:45 -0500 (Wed, 19 Feb 2025) EllapsedTime: 27.0 seconds RetCode: 0 Status: OK CheckDir: BADER.Rcheck Warnings: 0